Package: DEqMS Version: 1.27.1 Command: /Library/Frameworks/R.framework/Resources/bin/R CMD INSTALL DEqMS StartedAt: 2025-07-21 15:10:24 -0400 (Mon, 21 Jul 2025) EndedAt: 2025-07-21 15:10:52 -0400 (Mon, 21 Jul 2025) EllapsedTime: 28.1 seconds RetCode: 0 Status: OK