Package: DEqMS Version: 1.27.1 Command: /Library/Frameworks/R.framework/Resources/bin/R CMD build --keep-empty-dirs --no-resave-data DEqMS StartedAt: 2025-07-21 16:34:23 -0400 (Mon, 21 Jul 2025) EndedAt: 2025-07-21 16:35:59 -0400 (Mon, 21 Jul 2025) EllapsedTime: 95.8 seconds RetCode: 0 Status: OK PackageFile: DEqMS_1.27.1.tar.gz PackageFileSize: 2.305 MiB