Package: DEqMS Version: 1.27.1 Command: rm -rf DEqMS.buildbin-libdir && mkdir DEqMS.buildbin-libdir && /Users/biocbuild/BBS/utils/build-universal.sh DEqMS_1.27.1.tar.gz /Library/Frameworks/R.framework/Resources/bin/R DEqMS.buildbin-libdir StartedAt: 2025-07-22 00:57:51 -0400 (Tue, 22 Jul 2025) EndedAt: 2025-07-22 00:58:00 -0400 (Tue, 22 Jul 2025) EllapsedTime: 9.3 seconds RetCode: 0 Status: OK PackageFile: DEqMS_1.27.1.tgz PackageFileSize: 2.243 MiB