Package: DEXSeq Version: 1.55.1 Command: /home/biocbuild/R/R/bin/R CMD INSTALL DEXSeq StartedAt: 2025-07-14 20:42:39 -0000 (Mon, 14 Jul 2025) EndedAt: 2025-07-14 20:43:26 -0000 (Mon, 14 Jul 2025) EllapsedTime: 47.5 seconds RetCode: 0 Status: OK