Package: DEXSeq Version: 1.55.1 Command: /home/biocbuild/R/R/bin/R CMD check --install=check:DEXSeq.install-out.txt --library=/home/biocbuild/R/R/site-library --no-vignettes --timings DEXSeq_1.55.1.tar.gz StartedAt: 2025-07-15 06:43:06 -0000 (Tue, 15 Jul 2025) EndedAt: 2025-07-15 06:49:20 -0000 (Tue, 15 Jul 2025) EllapsedTime: 374.2 seconds RetCode: 0 Status: OK CheckDir: DEXSeq.Rcheck Warnings: 0