Package: DEXSeq Version: 1.55.1 Command: /home/biocbuild/R/R/bin/R CMD build --keep-empty-dirs --no-resave-data DEXSeq StartedAt: 2025-07-14 23:10:29 -0000 (Mon, 14 Jul 2025) EndedAt: 2025-07-14 23:13:04 -0000 (Mon, 14 Jul 2025) EllapsedTime: 155.1 seconds RetCode: 0 Status: OK PackageFile: DEXSeq_1.55.1.tar.gz PackageFileSize: 897.2 KiB