Package: DEXSeq Version: 1.55.1 Command: /home/biocbuild/bbs-3.22-bioc/R/bin/R CMD build --keep-empty-dirs --no-resave-data --md5 DEXSeq StartedAt: 2025-07-14 17:01:28 -0400 (Mon, 14 Jul 2025) EndedAt: 2025-07-14 17:03:21 -0400 (Mon, 14 Jul 2025) EllapsedTime: 113.1 seconds RetCode: 0 Status: OK PackageFile: DEXSeq_1.55.1.tar.gz PackageFileSize: 1.644 MiB