Package: DEXSeq Version: 1.55.1 Command: /Library/Frameworks/R.framework/Resources/bin/R CMD INSTALL DEXSeq StartedAt: 2025-07-14 15:33:00 -0400 (Mon, 14 Jul 2025) EndedAt: 2025-07-14 15:33:47 -0400 (Mon, 14 Jul 2025) EllapsedTime: 47.0 seconds RetCode: 0 Status: OK