Package: DEXSeq Version: 1.55.1 Command: /Library/Frameworks/R.framework/Resources/bin/R CMD build --keep-empty-dirs --no-resave-data DEXSeq StartedAt: 2025-07-14 16:45:10 -0400 (Mon, 14 Jul 2025) EndedAt: 2025-07-14 16:47:23 -0400 (Mon, 14 Jul 2025) EllapsedTime: 132.5 seconds RetCode: 0 Status: OK PackageFile: DEXSeq_1.55.1.tar.gz PackageFileSize: 1.779 MiB