Package: DEXSeq Version: 1.55.1 Command: rm -rf DEXSeq.buildbin-libdir && mkdir DEXSeq.buildbin-libdir && /Users/biocbuild/BBS/utils/build-universal.sh DEXSeq_1.55.1.tar.gz /Library/Frameworks/R.framework/Resources/bin/R DEXSeq.buildbin-libdir StartedAt: 2025-07-17 00:52:26 -0400 (Thu, 17 Jul 2025) EndedAt: 2025-07-17 00:53:16 -0400 (Thu, 17 Jul 2025) EllapsedTime: 49.7 seconds RetCode: 0 Status: OK PackageFile: DEXSeq_1.55.1.tgz PackageFileSize: 2.206 MiB