Package: DEXSeq Version: 1.55.1 Command: rm -rf DEXSeq.buildbin-libdir && mkdir DEXSeq.buildbin-libdir && /Users/biocbuild/BBS/utils/build-universal.sh DEXSeq_1.55.1.tar.gz /Library/Frameworks/R.framework/Resources/bin/R DEXSeq.buildbin-libdir StartedAt: 2025-07-14 22:16:53 -0400 (Mon, 14 Jul 2025) EndedAt: 2025-07-14 22:17:08 -0400 (Mon, 14 Jul 2025) EllapsedTime: 15.3 seconds RetCode: 0 Status: OK PackageFile: DEXSeq_1.55.1.tgz PackageFileSize: 2.22 MiB