Package: DEXSeq Version: 1.55.1 Maintainer: Alejandro Reyes MaintainerEmail: alejandro.reyes.ds at gmail.com git_url: https://git.bioconductor.org/packages/DEXSeq git_branch: devel git_last_commit: 140dad1 git_last_commit_date: 2025-06-21 16:12:50 -0400 (Sat, 21 Jun 2025)