Package: DEWSeq Version: 1.23.0 Command: /home/biocbuild/R/R/bin/R CMD INSTALL DEWSeq StartedAt: 2025-07-07 20:26:45 -0000 (Mon, 07 Jul 2025) EndedAt: 2025-07-07 20:27:18 -0000 (Mon, 07 Jul 2025) EllapsedTime: 32.9 seconds RetCode: 0 Status: OK