Package: DEWSeq Version: 1.23.0 Command: /home/biocbuild/R/R/bin/R CMD check --install=check:DEWSeq.install-out.txt --library=/home/biocbuild/R/R/site-library --no-vignettes --timings DEWSeq_1.23.0.tar.gz StartedAt: 2025-07-08 05:56:54 -0000 (Tue, 08 Jul 2025) EndedAt: 2025-07-08 06:02:05 -0000 (Tue, 08 Jul 2025) EllapsedTime: 310.2 seconds RetCode: 0 Status: OK CheckDir: DEWSeq.Rcheck Warnings: 0