Package: DEWSeq Version: 1.23.0 Command: /home/biocbuild/R/R/bin/R CMD build --keep-empty-dirs --no-resave-data DEWSeq StartedAt: 2025-07-07 23:02:18 -0000 (Mon, 07 Jul 2025) EndedAt: 2025-07-07 23:04:59 -0000 (Mon, 07 Jul 2025) EllapsedTime: 161.1 seconds RetCode: 0 Status: OK PackageFile: DEWSeq_1.23.0.tar.gz PackageFileSize: 3.157 MiB