Package: DEWSeq Version: 1.23.0 Command: F:\biocbuild\bbs-3.22-bioc\R\bin\R.exe CMD INSTALL DEWSeq StartedAt: 2025-07-07 16:03:06 -0400 (Mon, 07 Jul 2025) EndedAt: 2025-07-07 16:03:41 -0400 (Mon, 07 Jul 2025) EllapsedTime: 34.8 seconds RetCode: 0 Status: OK