Package: DEWSeq Version: 1.23.0 Command: chmod a+r DEWSeq -R && F:\biocbuild\bbs-3.22-bioc\R\bin\R.exe CMD build --keep-empty-dirs --no-resave-data DEWSeq StartedAt: 2025-07-09 19:07:13 -0400 (Wed, 09 Jul 2025) EndedAt: 2025-07-09 19:09:43 -0400 (Wed, 09 Jul 2025) EllapsedTime: 150.1 seconds RetCode: 0 Status: OK PackageFile: DEWSeq_1.23.0.tar.gz PackageFileSize: 3 MiB