Package: DEWSeq Version: 1.23.0 Command: rm -rf DEWSeq.buildbin-libdir && mkdir DEWSeq.buildbin-libdir && F:\biocbuild\bbs-3.22-bioc\R\bin\R.exe CMD INSTALL --build --library=DEWSeq.buildbin-libdir DEWSeq_1.23.0.tar.gz StartedAt: 2025-07-08 08:48:17 -0400 (Tue, 08 Jul 2025) EndedAt: 2025-07-08 08:48:50 -0400 (Tue, 08 Jul 2025) EllapsedTime: 33.4 seconds RetCode: 0 Status: OK PackageFile: DEWSeq_1.23.0.zip PackageFileSize: 2.52 MiB