Package: DEWSeq Version: 1.23.0 Command: /home/biocbuild/bbs-3.22-bioc/R/bin/R CMD INSTALL DEWSeq StartedAt: 2025-07-07 15:18:58 -0400 (Mon, 07 Jul 2025) EndedAt: 2025-07-07 15:19:23 -0400 (Mon, 07 Jul 2025) EllapsedTime: 25.0 seconds RetCode: 0 Status: OK