Package: DEWSeq Version: 1.23.0 Command: /home/biocbuild/bbs-3.22-bioc/R/bin/R CMD check --install=check:DEWSeq.install-out.txt --library=/home/biocbuild/bbs-3.22-bioc/R/site-library --timings DEWSeq_1.23.0.tar.gz StartedAt: 2025-07-07 21:44:54 -0400 (Mon, 07 Jul 2025) EndedAt: 2025-07-07 21:50:19 -0400 (Mon, 07 Jul 2025) EllapsedTime: 325.3 seconds RetCode: 0 Status: OK CheckDir: DEWSeq.Rcheck Warnings: 0