Package: DEWSeq Version: 1.23.0 Command: /home/biocbuild/bbs-3.22-bioc/R/bin/R CMD build --keep-empty-dirs --no-resave-data --md5 DEWSeq StartedAt: 2025-07-15 16:56:23 -0400 (Tue, 15 Jul 2025) EndedAt: 2025-07-15 16:58:13 -0400 (Tue, 15 Jul 2025) EllapsedTime: 110.1 seconds RetCode: 0 Status: OK PackageFile: DEWSeq_1.23.0.tar.gz PackageFileSize: 3.348 MiB