Package: DESpace Version: 2.1.0 Command: /Library/Frameworks/R.framework/Resources/bin/R CMD INSTALL DESpace StartedAt: 2025-07-22 15:11:24 -0400 (Tue, 22 Jul 2025) EndedAt: 2025-07-22 15:11:40 -0400 (Tue, 22 Jul 2025) EllapsedTime: 16.1 seconds RetCode: 0 Status: OK