Package: DESpace Version: 2.1.0 Command: /Library/Frameworks/R.framework/Resources/bin/R CMD build --keep-empty-dirs --no-resave-data DESpace StartedAt: 2025-07-22 16:07:44 -0400 (Tue, 22 Jul 2025) EndedAt: 2025-07-22 16:12:52 -0400 (Tue, 22 Jul 2025) EllapsedTime: 307.4 seconds RetCode: 0 Status: OK PackageFile: DESpace_2.1.0.tar.gz PackageFileSize: 9.589 MiB