Package: DESpace Version: 2.1.0 Command: rm -rf DESpace.buildbin-libdir && mkdir DESpace.buildbin-libdir && /Users/biocbuild/BBS/utils/build-universal.sh DESpace_2.1.0.tar.gz /Library/Frameworks/R.framework/Resources/bin/R DESpace.buildbin-libdir StartedAt: 2025-07-22 22:22:06 -0400 (Tue, 22 Jul 2025) EndedAt: 2025-07-22 22:22:25 -0400 (Tue, 22 Jul 2025) EllapsedTime: 18.3 seconds RetCode: 0 Status: OK PackageFile: DESpace_2.1.0.tgz PackageFileSize: 9.662 MiB