Package: DEP Version: 1.31.0 Command: /Library/Frameworks/R.framework/Resources/bin/R CMD build --keep-empty-dirs --no-resave-data DEP StartedAt: 2025-07-07 16:41:02 -0400 (Mon, 07 Jul 2025) EndedAt: 2025-07-07 16:42:57 -0400 (Mon, 07 Jul 2025) EllapsedTime: 115.5 seconds RetCode: 0 Status: OK PackageFile: DEP_1.31.0.tar.gz PackageFileSize: 3.387 MiB