Package: DEP Version: 1.31.0 Command: /Library/Frameworks/R.framework/Resources/bin/R CMD INSTALL DEP StartedAt: 2025-07-02 15:20:39 -0400 (Wed, 02 Jul 2025) EndedAt: 2025-07-02 15:20:56 -0400 (Wed, 02 Jul 2025) EllapsedTime: 16.7 seconds RetCode: 0 Status: OK