Package: DEP Version: 1.31.0 Command: /Library/Frameworks/R.framework/Resources/bin/R CMD check --install=check:DEP.install-out.txt --library=/Library/Frameworks/R.framework/Resources/library --no-vignettes --timings DEP_1.31.0.tar.gz StartedAt: 2025-07-04 18:55:15 -0400 (Fri, 04 Jul 2025) EndedAt: 2025-07-04 18:57:46 -0400 (Fri, 04 Jul 2025) EllapsedTime: 150.8 seconds RetCode: 0 Status: WARNINGS CheckDir: DEP.Rcheck Warnings: 1