Package: DEP Version: 1.31.0 Command: /Library/Frameworks/R.framework/Resources/bin/R CMD build --keep-empty-dirs --no-resave-data DEP StartedAt: 2025-07-02 16:07:01 -0400 (Wed, 02 Jul 2025) EndedAt: 2025-07-02 16:07:39 -0400 (Wed, 02 Jul 2025) EllapsedTime: 38.4 seconds RetCode: 0 Status: OK PackageFile: DEP_1.31.0.tar.gz PackageFileSize: 3.39 MiB