Package: DEP Version: 1.31.0 Command: rm -rf DEP.buildbin-libdir && mkdir DEP.buildbin-libdir && /Users/biocbuild/BBS/utils/build-universal.sh DEP_1.31.0.tar.gz /Library/Frameworks/R.framework/Resources/bin/R DEP.buildbin-libdir StartedAt: 2025-07-02 22:17:02 -0400 (Wed, 02 Jul 2025) EndedAt: 2025-07-02 22:17:22 -0400 (Wed, 02 Jul 2025) EllapsedTime: 19.3 seconds RetCode: 0 Status: OK PackageFile: DEP_1.31.0.tgz PackageFileSize: 4.269 MiB