Package: DELocal Version: 1.9.0 Command: rm -rf DELocal.buildbin-libdir && mkdir DELocal.buildbin-libdir && F:\biocbuild\bbs-3.22-bioc\R\bin\R.exe CMD INSTALL --build --library=DELocal.buildbin-libdir DELocal_1.9.0.tar.gz StartedAt: 2025-08-15 10:07:44 -0400 (Fri, 15 Aug 2025) EndedAt: 2025-08-15 10:08:16 -0400 (Fri, 15 Aug 2025) EllapsedTime: 32.0 seconds RetCode: 0 Status: OK PackageFile: DELocal_1.9.0.zip PackageFileSize: 2.33 MiB