Package: DEGseq Version: 1.63.0 Command: F:\biocbuild\bbs-3.22-bioc\R\bin\R.exe CMD check --no-multiarch --install=check:DEGseq.install-out.txt --library=F:\biocbuild\bbs-3.22-bioc\R\library --no-vignettes --timings DEGseq_1.63.0.tar.gz StartedAt: 2025-07-15 01:09:42 -0400 (Tue, 15 Jul 2025) EndedAt: 2025-07-15 01:10:53 -0400 (Tue, 15 Jul 2025) EllapsedTime: 71.0 seconds RetCode: 0 Status: OK CheckDir: DEGseq.Rcheck Warnings: 0