Package: DEGseq Version: 1.63.0 Command: rm -rf DEGseq.buildbin-libdir && mkdir DEGseq.buildbin-libdir && F:\biocbuild\bbs-3.22-bioc\R\bin\R.exe CMD INSTALL --build --library=DEGseq.buildbin-libdir DEGseq_1.63.0.tar.gz StartedAt: 2025-07-15 08:46:48 -0400 (Tue, 15 Jul 2025) EndedAt: 2025-07-15 08:47:47 -0400 (Tue, 15 Jul 2025) EllapsedTime: 58.7 seconds RetCode: 0 Status: OK PackageFile: DEGseq_1.63.0.zip PackageFileSize: 2.4 MiB