Package: DEGseq Version: 1.63.0 Command: /Library/Frameworks/R.framework/Resources/bin/R CMD INSTALL DEGseq StartedAt: 2025-07-01 15:05:36 -0400 (Tue, 01 Jul 2025) EndedAt: 2025-07-01 15:05:40 -0400 (Tue, 01 Jul 2025) EllapsedTime: 3.9 seconds RetCode: 0 Status: OK