Package: DEGreport Version: 1.45.0 Command: /home/biocbuild/R/R/bin/R CMD INSTALL DEGreport StartedAt: 2025-07-21 20:59:03 -0000 (Mon, 21 Jul 2025) EndedAt: 2025-07-21 20:59:41 -0000 (Mon, 21 Jul 2025) EllapsedTime: 38.4 seconds RetCode: 0 Status: OK