Package: DEGreport Version: 1.45.0 Command: F:\biocbuild\bbs-3.22-bioc\R\bin\R.exe CMD INSTALL DEGreport StartedAt: 2025-07-24 16:32:27 -0400 (Thu, 24 Jul 2025) EndedAt: 2025-07-24 16:33:26 -0400 (Thu, 24 Jul 2025) EllapsedTime: 58.9 seconds RetCode: 0 Status: OK