Package: DEGreport Version: 1.45.0 Command: /Library/Frameworks/R.framework/Resources/bin/R CMD INSTALL DEGreport StartedAt: 2025-07-11 15:29:15 -0400 (Fri, 11 Jul 2025) EndedAt: 2025-07-11 15:29:55 -0400 (Fri, 11 Jul 2025) EllapsedTime: 40.8 seconds RetCode: 0 Status: OK