Package: DEGreport Version: 1.45.0 Command: /Library/Frameworks/R.framework/Resources/bin/R CMD check --install=check:DEGreport.install-out.txt --library=/Library/Frameworks/R.framework/Resources/library --no-vignettes --timings DEGreport_1.45.0.tar.gz StartedAt: 2025-07-11 20:12:39 -0400 (Fri, 11 Jul 2025) EndedAt: 2025-07-11 20:18:12 -0400 (Fri, 11 Jul 2025) EllapsedTime: 332.9 seconds RetCode: 0 Status: OK CheckDir: DEGreport.Rcheck Warnings: 0