Package: DEGreport Version: 1.45.0 Command: /Library/Frameworks/R.framework/Resources/bin/R CMD build --keep-empty-dirs --no-resave-data DEGreport StartedAt: 2025-07-11 16:39:04 -0400 (Fri, 11 Jul 2025) EndedAt: 2025-07-11 16:40:24 -0400 (Fri, 11 Jul 2025) EllapsedTime: 79.8 seconds RetCode: 0 Status: OK PackageFile: DEGreport_1.45.0.tar.gz PackageFileSize: 19.71 MiB