Package: DEGraph Version: 1.61.0 Command: /home/biocbuild/bbs-3.22-bioc/R/bin/R CMD INSTALL DEGraph StartedAt: 2025-07-15 15:13:53 -0400 (Tue, 15 Jul 2025) EndedAt: 2025-07-15 15:14:02 -0400 (Tue, 15 Jul 2025) EllapsedTime: 8.6 seconds RetCode: 0 Status: OK