Package: DEFormats Version: 1.37.0 Command: /home/biocbuild/R/R/bin/R CMD INSTALL DEFormats StartedAt: 2025-06-30 20:42:39 -0000 (Mon, 30 Jun 2025) EndedAt: 2025-06-30 20:43:12 -0000 (Mon, 30 Jun 2025) EllapsedTime: 33.1 seconds RetCode: 0 Status: OK