Package: DEFormats Version: 1.37.0 Command: /home/biocbuild/R/R/bin/R CMD build --keep-empty-dirs --no-resave-data DEFormats StartedAt: 2025-06-30 23:05:33 -0000 (Mon, 30 Jun 2025) EndedAt: 2025-06-30 23:06:23 -0000 (Mon, 30 Jun 2025) EllapsedTime: 50.0 seconds RetCode: 0 Status: OK PackageFile: DEFormats_1.37.0.tar.gz PackageFileSize: 250.8 KiB