Package: DEFormats Version: 1.37.0 Command: F:\biocbuild\bbs-3.22-bioc\R\bin\R.exe CMD check --no-multiarch --install=check:DEFormats.install-out.txt --library=F:\biocbuild\bbs-3.22-bioc\R\library --no-vignettes --timings DEFormats_1.37.0.tar.gz StartedAt: 2025-07-18 01:04:19 -0400 (Fri, 18 Jul 2025) EndedAt: 2025-07-18 01:08:08 -0400 (Fri, 18 Jul 2025) EllapsedTime: 229.5 seconds RetCode: 0 Status: OK CheckDir: DEFormats.Rcheck Warnings: 0