Package: DEFormats Version: 1.37.0 Command: rm -rf DEFormats.buildbin-libdir && mkdir DEFormats.buildbin-libdir && F:\biocbuild\bbs-3.22-bioc\R\bin\R.exe CMD INSTALL --build --library=DEFormats.buildbin-libdir DEFormats_1.37.0.tar.gz StartedAt: 2025-07-15 08:46:10 -0400 (Tue, 15 Jul 2025) EndedAt: 2025-07-15 08:46:57 -0400 (Tue, 15 Jul 2025) EllapsedTime: 47.4 seconds RetCode: 0 Status: OK PackageFile: DEFormats_1.37.0.zip PackageFileSize: 490.8 KiB