Package: DECIPHER Version: 3.5.0 Command: F:\biocbuild\bbs-3.22-bioc\R\bin\R.exe CMD check --no-multiarch --install=check:DECIPHER.install-out.txt --library=F:\biocbuild\bbs-3.22-bioc\R\library --no-vignettes --timings DECIPHER_3.5.0.tar.gz StartedAt: 2025-07-21 01:08:14 -0400 (Mon, 21 Jul 2025) EndedAt: 2025-07-21 01:31:28 -0400 (Mon, 21 Jul 2025) EllapsedTime: 1394.2 seconds RetCode: 0 Status: OK CheckDir: DECIPHER.Rcheck Warnings: 0