Package: DECIPHER Version: 3.5.0 Command: rm -rf DECIPHER.buildbin-libdir && mkdir DECIPHER.buildbin-libdir && /Users/biocbuild/BBS/utils/build-universal.sh DECIPHER_3.5.0.tar.gz /Library/Frameworks/R.framework/Resources/bin/R DECIPHER.buildbin-libdir StartedAt: 2025-07-05 00:41:49 -0400 (Sat, 05 Jul 2025) EndedAt: 2025-07-05 00:43:10 -0400 (Sat, 05 Jul 2025) EllapsedTime: 80.8 seconds RetCode: 0 Status: OK PackageFile: DECIPHER_3.5.0.tgz PackageFileSize: 17.4 MiB