Package: DECIPHER Version: 3.5.0 Command: /Library/Frameworks/R.framework/Resources/bin/R CMD INSTALL DECIPHER StartedAt: 2025-07-22 15:17:07 -0400 (Tue, 22 Jul 2025) EndedAt: 2025-07-22 15:17:27 -0400 (Tue, 22 Jul 2025) EllapsedTime: 20.2 seconds RetCode: 0 Status: OK