Package: DECIPHER Version: 3.5.0 Command: /Library/Frameworks/R.framework/Resources/bin/R CMD check --install=check:DECIPHER.install-out.txt --library=/Library/Frameworks/R.framework/Resources/library --no-vignettes --timings DECIPHER_3.5.0.tar.gz StartedAt: 2025-07-22 18:54:17 -0400 (Tue, 22 Jul 2025) EndedAt: 2025-07-22 19:01:09 -0400 (Tue, 22 Jul 2025) EllapsedTime: 411.8 seconds RetCode: 0 Status: OK CheckDir: DECIPHER.Rcheck Warnings: 0