Package: DECIPHER Version: 3.5.0 Command: /Library/Frameworks/R.framework/Resources/bin/R CMD build --keep-empty-dirs --no-resave-data DECIPHER StartedAt: 2025-07-22 16:04:03 -0400 (Tue, 22 Jul 2025) EndedAt: 2025-07-22 16:13:26 -0400 (Tue, 22 Jul 2025) EllapsedTime: 563.2 seconds RetCode: 0 Status: OK PackageFile: DECIPHER_3.5.0.tar.gz PackageFileSize: 17.91 MiB