Package: DECIPHER Version: 3.5.0 Command: rm -rf DECIPHER.buildbin-libdir && mkdir DECIPHER.buildbin-libdir && /Users/biocbuild/BBS/utils/build-universal.sh DECIPHER_3.5.0.tar.gz /Library/Frameworks/R.framework/Resources/bin/R DECIPHER.buildbin-libdir StartedAt: 2025-07-22 22:21:39 -0400 (Tue, 22 Jul 2025) EndedAt: 2025-07-22 22:22:01 -0400 (Tue, 22 Jul 2025) EllapsedTime: 22.5 seconds RetCode: 0 Status: OK PackageFile: DECIPHER_3.5.0.tgz PackageFileSize: 17.35 MiB