Package: DCATS Version: 1.7.0 Command: /home/biocbuild/R/R/bin/R CMD INSTALL DCATS StartedAt: 2025-07-03 20:20:46 -0000 (Thu, 03 Jul 2025) EndedAt: 2025-07-03 20:21:02 -0000 (Thu, 03 Jul 2025) EllapsedTime: 16.8 seconds RetCode: 0 Status: OK